BEGIN:VCALENDAR
VERSION:2.0
PRODID:-//pkfl.cz//personal calendar 17338//CS
BEGIN:VTIMEZONE
TZID:Europe/Prague
BEGIN:DAYLIGHT
TZOFFSETFROM:+0100
TZOFFSETTO:+0200
DTSTART:19960331T020000
RRULE:FREQ=YEARLY;BYMONTH=3;BYDAY=-1SU
END:DAYLIGHT
BEGIN:STANDARD
TZOFFSETFROM:+0200
TZOFFSETTO:+0100
DTSTART:19961027T030000
RRULE:FREQ=YEARLY;BYMONTH=10;BYDAY=-1SU
END:STANDARD
END:VTIMEZONE
BEGIN:VEVENT
UID:63612_27_23_5_26_1700@pkfl.cz
DTSTAMP;TZID=Europe/Prague:20260523T170000
DTSTART;TZID=Europe/Prague:20260523T170000
DTEND;TZID=Europe/Prague:20260523T180000
SUMMARY: Zápas: PU vs Parma
DESCRIPTION: Zápas mezi "Prague United" a "Parma AG" \nKolo: 15 \nLiga: 3.B liga \nHřiště: Koráb \nAdresa: Sportcentrum Koráb\; Krejčího 2a\; 180 00   Praha 8\nGPS: 50.1133744,14.4676042\nVytvořeno: 17.1.2026\nUpraveno: 24.3.2026
LOCATION: Koráb
END:VEVENT
BEGIN:VEVENT
UID:63628_35_26_4_26_1730@pkfl.cz
DTSTAMP;TZID=Europe/Prague:20260426T173000
DTSTART;TZID=Europe/Prague:20260426T173000
DTEND;TZID=Europe/Prague:20260426T183000
SUMMARY: Zápas: AFC vs PU
DESCRIPTION: Zápas mezi "Ambassadors FC Praha" a "Prague United" \nKolo: 18 \nLiga: 3.B liga \nHřiště: Na dlouhém lánu \nAdresa: Na dlouhém lánu 43Praha-Dejvice\nGPS: 50.095098,14.3615\nVytvořeno: 17.1.2026\nUpraveno: 22.4.2026
LOCATION: Na dlouhém lánu
END:VEVENT
BEGIN:VEVENT
UID:63633_27_9_5_26_1700@pkfl.cz
DTSTAMP;TZID=Europe/Prague:20260509T170000
DTSTART;TZID=Europe/Prague:20260509T170000
DTEND;TZID=Europe/Prague:20260509T180000
SUMMARY: Zápas: PU vs Losos
DESCRIPTION: Zápas mezi "Prague United" a "Los Losos" \nKolo: 19 \nLiga: 3.B liga \nHřiště: Koráb \nAdresa: Sportcentrum Koráb\; Krejčího 2a\; 180 00   Praha 8\nGPS: 50.1133744,14.4676042\nVytvořeno: 17.1.2026\nUpraveno: 17.1.2026
LOCATION: Koráb
END:VEVENT
BEGIN:VEVENT
UID:63638_7_16_5_26_1040@pkfl.cz
DTSTAMP;TZID=Europe/Prague:20260516T104000
DTSTART;TZID=Europe/Prague:20260516T104000
DTEND;TZID=Europe/Prague:20260516T114000
SUMMARY: Zápas: High S. vs PU
DESCRIPTION: Zápas mezi "High Society" a "Prague United" \nKolo: 20 \nLiga: 3.B liga \nHřiště: Kobylisy \nAdresa: Salesiánské středisko mládeže\, Kobyliské nám.\, vjezd ul. Pod Kynclovkou\nGPS: 50.123072,14.450669\nVytvořeno: 17.1.2026\nUpraveno: 17.1.2026
LOCATION: Kobylisy
END:VEVENT
BEGIN:VEVENT
UID:63643_7_7_6_26_1720@pkfl.cz
DTSTAMP;TZID=Europe/Prague:20260607T172000
DTSTART;TZID=Europe/Prague:20260607T172000
DTEND;TZID=Europe/Prague:20260607T182000
SUMMARY: Zápas: Gjs vs PU
DESCRIPTION: Zápas mezi "GJS" a "Prague United" \nKolo: 21 \nLiga: 3.B liga \nHřiště: Kobylisy \nAdresa: Salesiánské středisko mládeže\, Kobyliské nám.\, vjezd ul. Pod Kynclovkou\nGPS: 50.123072,14.450669\nVytvořeno: 17.1.2026\nUpraveno: 17.1.2026
LOCATION: Kobylisy
END:VEVENT
BEGIN:VEVENT
UID:63650_27_30_5_26_1700@pkfl.cz
DTSTAMP;TZID=Europe/Prague:20260530T170000
DTSTART;TZID=Europe/Prague:20260530T170000
DTEND;TZID=Europe/Prague:20260530T180000
SUMMARY: Zápas: PU vs FCTRIDENT
DESCRIPTION: Zápas mezi "Prague United" a "FC TRIDENT" \nKolo: 22 \nLiga: 3.B liga \nHřiště: Koráb \nAdresa: Sportcentrum Koráb\; Krejčího 2a\; 180 00   Praha 8\nGPS: 50.1133744,14.4676042\nVytvořeno: 17.1.2026\nUpraveno: 18.1.2026
LOCATION: Koráb
END:VEVENT



END:VCALENDAR