BEGIN:VCALENDAR
VERSION:2.0
PRODID:-//pkfl.cz//personal calendar 17334//CS
BEGIN:VTIMEZONE
TZID:Europe/Prague
BEGIN:DAYLIGHT
TZOFFSETFROM:+0100
TZOFFSETTO:+0200
DTSTART:19960331T020000
RRULE:FREQ=YEARLY;BYMONTH=3;BYDAY=-1SU
END:DAYLIGHT
BEGIN:STANDARD
TZOFFSETFROM:+0200
TZOFFSETTO:+0100
DTSTART:19961027T030000
RRULE:FREQ=YEARLY;BYMONTH=10;BYDAY=-1SU
END:STANDARD
END:VTIMEZONE
BEGIN:VEVENT
UID:63481_7_3_5_26_2000@pkfl.cz
DTSTAMP;TZID=Europe/Prague:20260503T200000
DTSTART;TZID=Europe/Prague:20260503T200000
DTEND;TZID=Europe/Prague:20260503T210000
SUMMARY: Zápas: Garda vs Hells
DESCRIPTION: Zápas mezi "FC Stará garda" a "Hells" \nKolo: 12 \nLiga: 2.B liga \nHřiště: Kobylisy \nAdresa: Salesiánské středisko mládeže\, Kobyliské nám.\, vjezd ul. Pod Kynclovkou\nGPS: 50.123072,14.450669\nVytvořeno: 17.1.2026\nUpraveno: 26.2.2026
LOCATION: Kobylisy
END:VEVENT
BEGIN:VEVENT
UID:63508_7_26_4_26_2000@pkfl.cz
DTSTAMP;TZID=Europe/Prague:20260426T200000
DTSTART;TZID=Europe/Prague:20260426T200000
DTEND;TZID=Europe/Prague:20260426T210000
SUMMARY: Zápas: Garda vs Donbass 
DESCRIPTION: Zápas mezi "FC Stará garda" a "FC DONBASS" \nKolo: 18 \nLiga: 2.B liga \nHřiště: Kobylisy \nAdresa: Salesiánské středisko mládeže\, Kobyliské nám.\, vjezd ul. Pod Kynclovkou\nGPS: 50.123072,14.450669\nVytvořeno: 17.1.2026\nUpraveno: 17.1.2026
LOCATION: Kobylisy
END:VEVENT



END:VCALENDAR