BEGIN:VCALENDAR
VERSION:2.0
PRODID:-//pkfl.cz//personal calendar 17333//CS
BEGIN:VTIMEZONE
TZID:Europe/Prague
BEGIN:DAYLIGHT
TZOFFSETFROM:+0100
TZOFFSETTO:+0200
DTSTART:19960331T020000
RRULE:FREQ=YEARLY;BYMONTH=3;BYDAY=-1SU
END:DAYLIGHT
BEGIN:STANDARD
TZOFFSETFROM:+0200
TZOFFSETTO:+0100
DTSTART:19961027T030000
RRULE:FREQ=YEARLY;BYMONTH=10;BYDAY=-1SU
END:STANDARD
END:VTIMEZONE
BEGIN:VEVENT
UID:63618_79_19_4_26_1530@pkfl.cz
DTSTAMP;TZID=Europe/Prague:20260419T153000
DTSTART;TZID=Europe/Prague:20260419T153000
DTEND;TZID=Europe/Prague:20260419T163000
SUMMARY: Zápas: BAD vs PU
DESCRIPTION: Zápas mezi "Badford FC" a "Prague United" \nKolo: 16 \nLiga: 3.B liga \nHřiště: Šance 1 \nAdresa: Turínská 1483\nGPS: 50.0387362,14.5487892\nVytvořeno: 17.1.2026\nUpraveno: 19.4.2026
LOCATION: Šance 1
END:VEVENT
BEGIN:VEVENT
UID:63629_79_26_4_26_1530@pkfl.cz
DTSTAMP;TZID=Europe/Prague:20260426T153000
DTSTART;TZID=Europe/Prague:20260426T153000
DTEND;TZID=Europe/Prague:20260426T163000
SUMMARY: Zápas: BAD vs Krč
DESCRIPTION: Zápas mezi "Badford FC" a "BTW Krč fm" \nKolo: 18 \nLiga: 3.B liga \nHřiště: Šance 1 \nAdresa: Turínská 1483\nGPS: 50.0387362,14.5487892\nVytvořeno: 17.1.2026\nUpraveno: 17.1.2026
LOCATION: Šance 1
END:VEVENT
BEGIN:VEVENT
UID:63634_27_10_5_26_1715@pkfl.cz
DTSTAMP;TZID=Europe/Prague:20260510T171500
DTSTART;TZID=Europe/Prague:20260510T171500
DTEND;TZID=Europe/Prague:20260510T181500
SUMMARY: Zápas: Sehr vs BAD
DESCRIPTION: Zápas mezi "Sehranka" a "Badford FC" \nKolo: 19 \nLiga: 3.B liga \nHřiště: Koráb \nAdresa: Sportcentrum Koráb\; Krejčího 2a\; 180 00   Praha 8\nGPS: 50.1133744,14.4676042\nVytvořeno: 17.1.2026\nUpraveno: 17.1.2026
LOCATION: Koráb
END:VEVENT
BEGIN:VEVENT
UID:63639_79_17_5_26_1530@pkfl.cz
DTSTAMP;TZID=Europe/Prague:20260517T153000
DTSTART;TZID=Europe/Prague:20260517T153000
DTEND;TZID=Europe/Prague:20260517T163000
SUMMARY: Zápas: BAD vs FCC
DESCRIPTION: Zápas mezi "Badford FC" a "FC Chataři" \nKolo: 20 \nLiga: 3.B liga \nHřiště: Šance 1 \nAdresa: Turínská 1483\nGPS: 50.0387362,14.5487892\nVytvořeno: 17.1.2026\nUpraveno: 17.1.2026
LOCATION: Šance 1
END:VEVENT
BEGIN:VEVENT
UID:63644_7_6_6_26_0920@pkfl.cz
DTSTAMP;TZID=Europe/Prague:20260606T092000
DTSTART;TZID=Europe/Prague:20260606T092000
DTEND;TZID=Europe/Prague:20260606T102000
SUMMARY: Zápas: Parma vs BAD
DESCRIPTION: Zápas mezi "Parma AG" a "Badford FC" \nKolo: 21 \nLiga: 3.B liga \nHřiště: Kobylisy \nAdresa: Salesiánské středisko mládeže\, Kobyliské nám.\, vjezd ul. Pod Kynclovkou\nGPS: 50.123072,14.450669\nVytvořeno: 17.1.2026\nUpraveno: 17.1.2026
LOCATION: Kobylisy
END:VEVENT
BEGIN:VEVENT
UID:63649_79_14_6_26_1530@pkfl.cz
DTSTAMP;TZID=Europe/Prague:20260614T153000
DTSTART;TZID=Europe/Prague:20260614T153000
DTEND;TZID=Europe/Prague:20260614T163000
SUMMARY: Zápas: BAD vs Gjs
DESCRIPTION: Zápas mezi "Badford FC" a "GJS" \nKolo: 22 \nLiga: 3.B liga \nHřiště: Šance 1 \nAdresa: Turínská 1483\nGPS: 50.0387362,14.5487892\nVytvořeno: 17.1.2026\nUpraveno: 17.1.2026
LOCATION: Šance 1
END:VEVENT



END:VCALENDAR