BEGIN:VCALENDAR
VERSION:2.0
PRODID:-//pkfl.cz//personal calendar 17331//CS
BEGIN:VTIMEZONE
TZID:Europe/Prague
BEGIN:DAYLIGHT
TZOFFSETFROM:+0100
TZOFFSETTO:+0200
DTSTART:19960331T020000
RRULE:FREQ=YEARLY;BYMONTH=3;BYDAY=-1SU
END:DAYLIGHT
BEGIN:STANDARD
TZOFFSETFROM:+0200
TZOFFSETTO:+0100
DTSTART:19961027T030000
RRULE:FREQ=YEARLY;BYMONTH=10;BYDAY=-1SU
END:STANDARD
END:VTIMEZONE
BEGIN:VEVENT
UID:63462_79_10_5_26_1700@pkfl.cz
DTSTAMP;TZID=Europe/Prague:20260510T170000
DTSTART;TZID=Europe/Prague:20260510T170000
DTEND;TZID=Europe/Prague:20260510T180000
SUMMARY: Zápas: FC Menč vs Zaka
DESCRIPTION: Zápas mezi "FC Menčul" a "Fk Zakarpattya" \nKolo: 17 \nLiga: 2.A liga \nHřiště: Šance 1 \nAdresa: Turínská 1483\nGPS: 50.0387362,14.5487892\nVytvořeno: 17.1.2026\nUpraveno: 7.4.2026
LOCATION: Šance 1
END:VEVENT



END:VCALENDAR