BEGIN:VCALENDAR
VERSION:2.0
PRODID:-//pkfl.cz//personal calendar 17322//CS
BEGIN:VTIMEZONE
TZID:Europe/Prague
BEGIN:DAYLIGHT
TZOFFSETFROM:+0100
TZOFFSETTO:+0200
DTSTART:19960331T020000
RRULE:FREQ=YEARLY;BYMONTH=3;BYDAY=-1SU
END:DAYLIGHT
BEGIN:STANDARD
TZOFFSETFROM:+0200
TZOFFSETTO:+0100
DTSTART:19961027T030000
RRULE:FREQ=YEARLY;BYMONTH=10;BYDAY=-1SU
END:STANDARD
END:VTIMEZONE
BEGIN:VEVENT
UID:63662_7_31_5_26_1830@pkfl.cz
DTSTAMP;TZID=Europe/Prague:20260531T183000
DTSTART;TZID=Europe/Prague:20260531T183000
DTEND;TZID=Europe/Prague:20260531T193000
SUMMARY: Zápas: Mama vs Atle
DESCRIPTION: Zápas mezi "TJ Tvoja Mama" a "FC Atle" \nKolo: 13 \nLiga: 4.A liga \nHřiště: Kobylisy \nAdresa: Salesiánské středisko mládeže\, Kobyliské nám.\, vjezd ul. Pod Kynclovkou\nGPS: 50.123072,14.450669\nVytvořeno: 17.1.2026\nUpraveno: 12.3.2026
LOCATION: Kobylisy
END:VEVENT
BEGIN:VEVENT
UID:63696_75_26_4_26_1800@pkfl.cz
DTSTAMP;TZID=Europe/Prague:20260426T180000
DTSTART;TZID=Europe/Prague:20260426T180000
DTEND;TZID=Europe/Prague:20260426T190000
SUMMARY: Zápas: FC MD vs Mama
DESCRIPTION: Zápas mezi "FC Midjanitsya" a "TJ Tvoja Mama" \nKolo: 18 \nLiga: 4.A liga \nHřiště: Štěrboholy 1 \nAdresa: U školy 430  102 00 Praha 10\, Praha-Štěrboholy\nGPS: 50.0707197,14.5533719\nVytvořeno: 17.1.2026\nUpraveno: 7.4.2026
LOCATION: Štěrboholy 1
END:VEVENT
BEGIN:VEVENT
UID:63701_7_10_5_26_1600@pkfl.cz
DTSTAMP;TZID=Europe/Prague:20260510T160000
DTSTART;TZID=Europe/Prague:20260510T160000
DTEND;TZID=Europe/Prague:20260510T170000
SUMMARY: Zápas: Mama vs AGU
DESCRIPTION: Zápas mezi "TJ Tvoja Mama" a "AG United" \nKolo: 19 \nLiga: 4.A liga \nHřiště: Kobylisy \nAdresa: Salesiánské středisko mládeže\, Kobyliské nám.\, vjezd ul. Pod Kynclovkou\nGPS: 50.123072,14.450669\nVytvořeno: 17.1.2026\nUpraveno: 17.1.2026
LOCATION: Kobylisy
END:VEVENT
BEGIN:VEVENT
UID:63706_7_17_5_26_1840@pkfl.cz
DTSTAMP;TZID=Europe/Prague:20260517T184000
DTSTART;TZID=Europe/Prague:20260517T184000
DTEND;TZID=Europe/Prague:20260517T194000
SUMMARY: Zápas: Slavoj vs Mama
DESCRIPTION: Zápas mezi "Slavoj" a "TJ Tvoja Mama" \nKolo: 20 \nLiga: 4.A liga \nHřiště: Kobylisy \nAdresa: Salesiánské středisko mládeže\, Kobyliské nám.\, vjezd ul. Pod Kynclovkou\nGPS: 50.123072,14.450669\nVytvořeno: 17.1.2026\nUpraveno: 17.1.2026
LOCATION: Kobylisy
END:VEVENT
BEGIN:VEVENT
UID:63711_7_24_5_26_1600@pkfl.cz
DTSTAMP;TZID=Europe/Prague:20260524T160000
DTSTART;TZID=Europe/Prague:20260524T160000
DTEND;TZID=Europe/Prague:20260524T170000
SUMMARY: Zápas: Mama vs TOR
DESCRIPTION: Zápas mezi "TJ Tvoja Mama" a "FC TORNADO" \nKolo: 21 \nLiga: 4.A liga \nHřiště: Kobylisy \nAdresa: Salesiánské středisko mládeže\, Kobyliské nám.\, vjezd ul. Pod Kynclovkou\nGPS: 50.123072,14.450669\nVytvořeno: 17.1.2026\nUpraveno: 14.2.2026
LOCATION: Kobylisy
END:VEVENT
BEGIN:VEVENT
UID:63716_35_14_6_26_1430@pkfl.cz
DTSTAMP;TZID=Europe/Prague:20260614T143000
DTSTART;TZID=Europe/Prague:20260614T143000
DTEND;TZID=Europe/Prague:20260614T153000
SUMMARY: Zápas: ATB vs Mama
DESCRIPTION: Zápas mezi "Atlético Bořislavka" a "TJ Tvoja Mama" \nKolo: 22 \nLiga: 4.A liga \nHřiště: Na dlouhém lánu \nAdresa: Na dlouhém lánu 43Praha-Dejvice\nGPS: 50.095098,14.3615\nVytvořeno: 17.1.2026\nUpraveno: 17.1.2026
LOCATION: Na dlouhém lánu
END:VEVENT



END:VCALENDAR