BEGIN:VCALENDAR
VERSION:2.0
PRODID:-//pkfl.cz//personal calendar 17306//CS
BEGIN:VTIMEZONE
TZID:Europe/Prague
BEGIN:DAYLIGHT
TZOFFSETFROM:+0100
TZOFFSETTO:+0200
DTSTART:19960331T020000
RRULE:FREQ=YEARLY;BYMONTH=3;BYDAY=-1SU
END:DAYLIGHT
BEGIN:STANDARD
TZOFFSETFROM:+0200
TZOFFSETTO:+0100
DTSTART:19961027T030000
RRULE:FREQ=YEARLY;BYMONTH=10;BYDAY=-1SU
END:STANDARD
END:VTIMEZONE
BEGIN:VEVENT
UID:63406_27_25_4_26_1100@pkfl.cz
DTSTAMP;TZID=Europe/Prague:20260425T110000
DTSTART;TZID=Europe/Prague:20260425T110000
DTEND;TZID=Europe/Prague:20260425T120000
SUMMARY: Zápas: LVFC vs RVCF
DESCRIPTION: Zápas mezi "LVFC Rams Prague" a "Real Vinohrady C.F." \nKolo: 18 \nLiga: 1. liga \nHřiště: Koráb \nAdresa: Sportcentrum Koráb\; Krejčího 2a\; 180 00   Praha 8\nGPS: 50.1133744,14.4676042\nVytvořeno: 17.1.2026\nUpraveno: 17.1.2026
LOCATION: Koráb
END:VEVENT
BEGIN:VEVENT
UID:63426_7_6_6_26_2000@pkfl.cz
DTSTAMP;TZID=Europe/Prague:20260606T200000
DTSTART;TZID=Europe/Prague:20260606T200000
DTEND;TZID=Europe/Prague:20260606T210000
SUMMARY: Zápas: FC Inter vs LVFC
DESCRIPTION: Zápas mezi "FC Inter Ganichi" a "LVFC Rams Prague" \nKolo: 21 \nLiga: 1. liga \nHřiště: Kobylisy \nAdresa: Salesiánské středisko mládeže\, Kobyliské nám.\, vjezd ul. Pod Kynclovkou\nGPS: 50.123072,14.450669\nVytvořeno: 17.1.2026\nUpraveno: 17.1.2026
LOCATION: Kobylisy
END:VEVENT
BEGIN:VEVENT
UID:63431_27_30_5_26_1100@pkfl.cz
DTSTAMP;TZID=Europe/Prague:20260530T110000
DTSTART;TZID=Europe/Prague:20260530T110000
DTEND;TZID=Europe/Prague:20260530T120000
SUMMARY: Zápas: LVFC vs AKT
DESCRIPTION: Zápas mezi "LVFC Rams Prague" a "SFA Kobyliští Tygři" \nKolo: 22 \nLiga: 1. liga \nHřiště: Koráb \nAdresa: Sportcentrum Koráb\; Krejčího 2a\; 180 00   Praha 8\nGPS: 50.1133744,14.4676042\nVytvořeno: 17.1.2026\nUpraveno: 18.1.2026
LOCATION: Koráb
END:VEVENT



END:VCALENDAR